BEGIN:VCALENDAR
VERSION:2.0
PRODID:-//Drupal//recurring_events_ical//2.0//EN
BEGIN:VEVENT
UID:5435c082-1c37-4a90-8bc7-ba380f79d0c4@openondemand.connectci.org
DTSTAMP:20251014T121901Z
DTSTART:20251111T170000Z
DTEND:20251111T174500Z
SUMMARY:Affinity Group Coordinator Meeting
DESCRIPTION:Meeting at the second half of Open Office hours, Affinity Group
  coordinators discuss how to help the community collaborate. 
URL:https://openondemand.connectci.org/events/8611
END:VEVENT
END:VCALENDAR