BEGIN:VCALENDAR
VERSION:2.0
PRODID:-//Drupal//recurring_events_ical//2.0//EN
BEGIN:VEVENT
UID:fe1e0e30-715f-4b3b-8975-ccf66638d31e@openondemand.connectci.org
DTSTAMP:20251111T105654Z
DTSTART:20251118T223000Z
DTEND:20251119T000000Z
SUMMARY:SC25 - Forum for Open OnDemand (FOOD)
DESCRIPTION:Join us 4:30-6 PM at SC25 to mingle, snack, and find out more a
 bout our affinity groups, committees, and how you can get involved with Op
 en OnDemand and the community. 
URL:https://openondemand.connectci.org/events/8639
END:VEVENT
END:VCALENDAR