BEGIN:VCALENDAR
VERSION:2.0
PRODID:-//Drupal//recurring_events_ical//2.0//EN
BEGIN:VEVENT
UID:1e76e9f4-c48f-4801-b198-cf499ee8acca@openondemand.connectci.org
DTSTAMP:20251119T095741Z
DTSTART:20260114T193000Z
DTEND:20260114T200000Z
SUMMARY:OOD Security Best Practices Community Meeting
DESCRIPTION:Open OnDemand Security Best Practices Affinity Group meeting to
  discuss security best practices, challenges, successes, and community gro
 wth for the Affinity group.
URL:https://openondemand.connectci.org/events/8691
END:VEVENT
END:VCALENDAR