BEGIN:VCALENDAR
VERSION:2.0
PRODID:-//Drupal//recurring_events_ical//2.0//EN
BEGIN:VEVENT
UID:29646cbe-d343-4b14-afdf-53eaabce1241@openondemand.connectci.org
DTSTAMP:20251119T095741Z
DTSTART:20260408T183000Z
DTEND:20260408T190000Z
SUMMARY:OOD Security Best Practices Community Meeting
DESCRIPTION:Open OnDemand Security Best Practices Affinity Group meeting to
  discuss security best practices, challenges, successes, and community gro
 wth for the Affinity group.
URL:https://openondemand.connectci.org/events/8694
END:VEVENT
END:VCALENDAR