BEGIN:VCALENDAR
VERSION:2.0
PRODID:-//Drupal//recurring_events_ical//2.0//EN
BEGIN:VEVENT
UID:b8f6d37c-410e-46ba-becd-1cedc3c421ef@openondemand.connectci.org
DTSTAMP:20251119T095741Z
DTSTART:20260708T183000Z
DTEND:20260708T190000Z
SUMMARY:OOD Security Best Practices Community Meeting
DESCRIPTION:Open OnDemand Security Best Practices Affinity Group meeting to
  discuss security best practices, challenges, successes, and community gro
 wth for the Affinity group.
URL:https://openondemand.connectci.org/events/8697
END:VEVENT
END:VCALENDAR