BEGIN:VCALENDAR
VERSION:2.0
PRODID:-//Drupal//recurring_events_ical//2.0//EN
BEGIN:VEVENT
UID:d92b763e-7970-40e2-a39a-a9d8c2367859@openondemand.connectci.org
DTSTAMP:20260102T115950Z
DTSTART:20260901T180000Z
DTEND:20260901T190000Z
SUMMARY:Open OnDemand in the Classroom Affinity Group meeting
DESCRIPTION:Register in advance on Zoom to get a calendar invite for the r
 ecurring meeting. :https://osu.zoom.us/meeting/register/F1r8AesKTW2J0CQTTB
 AWQA After registering, you will receive a confirmation email containing 
 information about joining the meeting.
URL:https://openondemand.connectci.org/events/8791
END:VEVENT
END:VCALENDAR