BEGIN:VCALENDAR
VERSION:2.0
PRODID:-//Drupal//recurring_events_ical//2.0//EN
BEGIN:VEVENT
UID:b7bc57c2-1914-4bb7-a1ea-cfa4dd5fda8a@openondemand.connectci.org
DTSTAMP:20260102T115950Z
DTSTART:20261006T180000Z
DTEND:20261006T190000Z
SUMMARY:Open OnDemand in the Classroom Affinity Group meeting
DESCRIPTION:Register in advance on Zoom to get a calendar invite for the r
 ecurring meeting. :https://osu.zoom.us/meeting/register/F1r8AesKTW2J0CQTTB
 AWQA After registering, you will receive a confirmation email containing 
 information about joining the meeting.
URL:https://openondemand.connectci.org/events/8792
END:VEVENT
END:VCALENDAR