BEGIN:VCALENDAR
VERSION:2.0
PRODID:-//Drupal//recurring_events_ical//2.0//EN
BEGIN:VEVENT
UID:3afb9e80-91d5-44e3-831c-b345fc85fb29@openondemand.connectci.org
DTSTAMP:20260102T115950Z
DTSTART:20261103T190000Z
DTEND:20261103T200000Z
SUMMARY:Open OnDemand in the Classroom Affinity Group meeting
DESCRIPTION:Register in advance on Zoom to get a calendar invite for the r
 ecurring meeting. :https://osu.zoom.us/meeting/register/F1r8AesKTW2J0CQTTB
 AWQA After registering, you will receive a confirmation email containing 
 information about joining the meeting.
URL:https://openondemand.connectci.org/events/8793
END:VEVENT
END:VCALENDAR