BEGIN:VCALENDAR
VERSION:2.0
PRODID:-//Drupal//recurring_events_ical//2.0//EN
BEGIN:VEVENT
UID:0ce39a98-7e8b-4afb-97a0-ad91580beda9@openondemand.connectci.org
DTSTAMP:20260102T115950Z
DTSTART:20261201T190000Z
DTEND:20261201T200000Z
SUMMARY:Open OnDemand in the Classroom Affinity Group meeting
DESCRIPTION:Register in advance on Zoom to get a calendar invite for the r
 ecurring meeting. :https://osu.zoom.us/meeting/register/F1r8AesKTW2J0CQTTB
 AWQA After registering, you will receive a confirmation email containing 
 information about joining the meeting.
URL:https://openondemand.connectci.org/events/8794
END:VEVENT
END:VCALENDAR