BEGIN:VCALENDAR
VERSION:2.0
PRODID:-//Drupal//recurring_events_ical//2.0//EN
BEGIN:VEVENT
UID:c70d2378-8fd2-4404-a23e-23dd11f4d29e@openondemand.connectci.org
DTSTAMP:20260128T102654Z
DTSTART:20260714T160000Z
DTEND:20260714T164500Z
SUMMARY:Affinity Group Coordinator Meeting
DESCRIPTION:Open OnDemand Affinity Group Coordinators are held on the secon
 d Tuesday of every month during the second half of Open OnDemand Office Ho
 urs. If you’re able to join, we’d love to hear what coordinators have 
 been up to and talk about how we can support you.Join Zoom Meetinghttps://
 osu.zoom.us/j/96298568321?pwd=a2hIRElHNCtPalFrMnREUC9YaDlxdz09Meeting note
 sMeeting ID: 962 9856 8321Password: 424991One tap mobile+16513728299,,9629
 8568321#,,,,0#,,424991# US (Minnesota)+13017158592,,96298568321#,,,,0#,,42
 4991# US (Washington DC) Dial by your location        +1 651 372 8
 299 US (Minnesota)        +1 301 715 8592 US (Washington DC)   
      +1 312 626 6799 US (Chicago)        +1 646 876 9923 US (Ne
 w York)        +1 669 900 6833 US (San Jose)        +1 253 2
 15 8782 US (Tacoma)        +1 346 248 7799 US (Houston)      
   +1 408 638 0968 US (San Jose)Meeting ID: 962 9856 8321Password: 424991F
 ind your local number: https://osu.zoom.us/u/acdBffcaQl 
URL:https://openondemand.connectci.org/events/8865
END:VEVENT
END:VCALENDAR