BEGIN:VCALENDAR
VERSION:2.0
PRODID:-//Drupal//recurring_events_ical//2.0//EN
BEGIN:VEVENT
UID:d28cdb57-e938-48a7-bf85-b72443abf007@openondemand.connectci.org
DTSTAMP:20260130T163246Z
DTSTART:20260205T160000Z
DTEND:20260205T164500Z
SUMMARY:Open OnDemand Structural Biology Apps Affinity Group Meeting
DESCRIPTION:Join us on Thursday 10:00 AM CST, via Zoom for a virtual meetin
 g discussing an overview of structural biology apps for Open OnDemand, set
 up, install, and use. Additionally, we will look ahead for topics and disc
 ussions for the next year.
URL:https://openondemand.connectci.org/events/8877
END:VEVENT
END:VCALENDAR