BEGIN:VCALENDAR
VERSION:2.0
PRODID:-//Drupal//recurring_events_ical//2.0//EN
BEGIN:VEVENT
UID:9822cb84-3ff6-4ec1-becf-c0703a63236d@openondemand.connectci.org
DTSTAMP:20260202T152015Z
DTSTART:20260204T200000Z
DTEND:20260204T210000Z
SUMMARY:Appverse Affinity Group Meeting
DESCRIPTION:Monthly affinity group meeting for the Appverse Initiative.The 
 Open OnDemand Appverse is a collaborative ecosystem designed to simplify h
 ow we host, develop, and share apps within the OOD community. From technic
 al infrastructure and security to metadata and governance, we are building
  a shared space that supports diverse software stacks and seamless develop
 er onboarding. Whether you’re an admin or an end-user, your ideas can he
 lp shape this new frontier. Join the conversation and help us build the Ap
 pverse!
URL:https://openondemand.connectci.org/events/8881
END:VEVENT
END:VCALENDAR