BEGIN:VCALENDAR
VERSION:2.0
PRODID:-//Drupal//recurring_events_ical//2.0//EN
BEGIN:VEVENT
UID:282bff4b-bb73-40bf-ab90-df6be137607a@openondemand.connectci.org
DTSTAMP:20260225T125923Z
DTSTART:20260304T200000Z
DTEND:20260304T210000Z
SUMMARY:Open OnDemand Appverse Affinity Group Meeting
DESCRIPTION:This is the monthly meeting for members of the Open OnDemand Ap
 pverse Affinity Group. This month, we will have a special presentation fro
 m the team at the Moffitt Cancer Center.The Open OnDemand Appverse is a co
 llaborative ecosystem designed to simplify how we host, develop, and share
  apps within the OOD community. From technical infrastructure and security
  to metadata and governance, we are building a shared space that supports 
 diverse software stacks and seamless developer onboarding. Whether you're 
 an admin or an end-user, your ideas can help shape this new frontier. Join
  the conversation and help us build the Appverse!
URL:https://openondemand.connectci.org/events/8953
END:VEVENT
END:VCALENDAR