BEGIN:VCALENDAR
VERSION:2.0
PRODID:-//Drupal//recurring_events_ical//2.0//EN
BEGIN:VEVENT
UID:9475b1e2-a9d0-4a7e-a10c-fe70bdab582c@openondemand.connectci.org
DTSTAMP:20260330T114400Z
DTSTART:20260401T190000Z
DTEND:20260401T200000Z
SUMMARY:Appverse Affinity Group Meeting
DESCRIPTION:This is the monthly meeting for members of the Open OnDemand Ap
 pverse Affinity Group. This month: a brief recap of the GOOD26 conference 
 and of the Appverse content presented there, followed by a special present
 ation by Travis Ravert of the core Developer Team!The Open OnDemand Appver
 se is a collaborative ecosystem designed to simplify how we host, develop,
  and share apps within the OOD community. From technical infrastructure an
 d security to metadata and governance, we are building a shared space that
  supports diverse software stacks and seamless developer onboarding. Wheth
 er you're an admin or an end-user, your ideas can help shape this new fron
 tier. Join the conversation and help us build the Appverse!
URL:https://openondemand.connectci.org/events/9031
END:VEVENT
END:VCALENDAR