BEGIN:VCALENDAR
VERSION:2.0
PRODID:-//Drupal//recurring_events_ical//2.0//EN
BEGIN:VEVENT
UID:45ad81c0-93f9-4c8f-8de3-84da7a5bea83@openondemand.connectci.org
DTSTAMP:20260402T163941Z
DTSTART:20260403T183000Z
DTEND:20260403T190000Z
SUMMARY:LLMs on Open OnDemand Affinity Group Meeting
DESCRIPTION:This is a monthly meeting to discuss integrating LLMs with Open
  OnDemand, held the first Friday of every month from 2:30–3:00 pm. The g
 roup explores ways to enhance the Open OnDemand ecosystem through LLMs, in
 cluding building user-facing apps and improving how users interact with Op
 en OnDemand tools.GoalsMake LLMs more accessible to the OOD communityFacil
 itate knowledge transfer within the community, helping people identify res
 ources such as Ollama and WebUI
URL:https://openondemand.connectci.org/events/9037
END:VEVENT
END:VCALENDAR