BEGIN:VCALENDAR
VERSION:2.0
PRODID:-//Drupal//recurring_events_ical//2.0//EN
BEGIN:VEVENT
UID:79325d98-c101-49d2-a660-2fb90bf1abf3@openondemand.connectci.org
DTSTAMP:20260413T133339Z
DTSTART:20260420T030000Z
DTEND:20260420T040000Z
SUMMARY:Open OnDemand Tips and Tricks Call - APAC
DESCRIPTION:Join our monthly call for the Asia Pacific (APAC) community to
  learn practical tips for using this powerful, web-based platform that giv
 es you seamless access to HPC resources—no software needed.What you’ll
  get out of it:Proven configurations that deliver for end usersUI and work
 flow tweaks, plus a look at new appsOperational takeaways from real day-to
 -day usageWhether you’re already using Open OnDemand or just getting sta
 rted, come along to pick up practical ideas you can apply right away, and 
 bring your questions. Happening every month on a Monday at 11 AM AWST. Ne
 xt calls: 20 April, 11 May and 15 June.Register using the registration lin
 k, you will receive a Google Meet invite. Recordings of past sessions are 
 available on the Open OnDemand website.Hosted by Do IT Now New Zealand tea
 m. For enquiries: ood@doitnowgroup.com.
URL:https://openondemand.connectci.org/events/9043
END:VEVENT
END:VCALENDAR