BEGIN:VCALENDAR
VERSION:2.0
PRODID:-//Drupal//recurring_events_ical//2.0//EN
BEGIN:VEVENT
UID:15aac4ea-9dd6-41af-afc7-3676c5973917@openondemand.connectci.org
DTSTAMP:20260414T125452Z
DTSTART:20260605T183000Z
DTEND:20260605T190000Z
SUMMARY:LLMs on Open OnDemand Affinity Group Meeting
DESCRIPTION:This is a monthly meeting to discuss integrating LLMs with Open
  OnDemand, held the first Friday of every month from 2:30–3:00 pm. The g
 roup explores ways to enhance the Open OnDemand ecosystem through LLMs, in
 cluding building user-facing apps and improving how users interact with Op
 en OnDemand tools.GoalsMake LLMs more accessible to the OOD communityFacil
 itate knowledge transfer within the community, helping people identify res
 ources such as Ollama and WebUI
URL:https://openondemand.connectci.org/events/9046
END:VEVENT
END:VCALENDAR