BEGIN:VCALENDAR
VERSION:2.0
PRODID:-//Drupal//recurring_events_ical//2.0//EN
BEGIN:VEVENT
UID:a61b83a8-2089-4335-bcb3-071e5f20b2ab@openondemand.connectci.org
DTSTAMP:20260414T125452Z
DTSTART:20260904T183000Z
DTEND:20260904T190000Z
SUMMARY:LLMs on Open OnDemand Affinity Group Meeting
DESCRIPTION:This is a monthly meeting to discuss integrating LLMs with Open
  OnDemand, held the first Friday of every month from 2:30–3:00 pm. The g
 roup explores ways to enhance the Open OnDemand ecosystem through LLMs, in
 cluding building user-facing apps and improving how users interact with Op
 en OnDemand tools.GoalsMake LLMs more accessible to the OOD communityFacil
 itate knowledge transfer within the community, helping people identify res
 ources such as Ollama and WebUI
URL:https://openondemand.connectci.org/events/9049
END:VEVENT
END:VCALENDAR